BEGIN:VCALENDAR
VERSION:2.0
PRODID:-//OSIRIS - ECPv6.3.5//NONSGML v1.0//EN
CALSCALE:GREGORIAN
METHOD:PUBLISH
X-WR-CALNAME:OSIRIS
X-ORIGINAL-URL:https://osiris4r.eu
X-WR-CALDESC:Events for OSIRIS
REFRESH-INTERVAL;VALUE=DURATION:PT1H
X-Robots-Tag:noindex
X-PUBLISHED-TTL:PT1H
BEGIN:VTIMEZONE
TZID:UTC
BEGIN:STANDARD
TZOFFSETFROM:+0000
TZOFFSETTO:+0000
TZNAME:UTC
DTSTART:20250101T000000
END:STANDARD
END:VTIMEZONE
BEGIN:VEVENT
DTSTART;VALUE=DATE:20250217
DTEND;VALUE=DATE:20250220
DTSTAMP:20260420T031959
CREATED:20250211T121001Z
LAST-MODIFIED:20250211T121104Z
UID:2600-1739750400-1740009599@osiris4r.eu
SUMMARY:The 19th edition of the International Digital Curation Conference (IDCC25)
DESCRIPTION:The 19th edition of the International Digital Curation Conference (IDCC25) will take place in The Hague\, the Netherlands between 17-19 February 2025. \nThe main theme of IDCC this year is Twenty years back\, twenty years forward: lessons and directions in digital curation. \nIDCC25 Programme Announced!\nOver 125 contributions from all over the world make up our programme\, that all meet the theme Twenty years back\, twenty years forward: lessons and directions in digital curation. \nThis year we have created in-person and virtual programme webpages. \nSponsorship and Support Opportunities are open
URL:https://osiris4r.eu/event/the-19th-edition-of-the-international-digital-curation-conference-idcc25/
LOCATION:Haag\, Netherlands\, Haag\, Netherlands
ATTACH;FMTTYPE=image/png:https://osiris4r.eu/wp-content/uploads/2025/02/The-Hague-Parliament-Banner-1100px-225px.png
END:VEVENT
END:VCALENDAR