BEGIN:VCALENDAR
VERSION:2.0
PRODID:-//OSIRIS - ECPv6.3.5//NONSGML v1.0//EN
CALSCALE:GREGORIAN
METHOD:PUBLISH
X-WR-CALNAME:OSIRIS
X-ORIGINAL-URL:https://osiris4r.eu
X-WR-CALDESC:Events for OSIRIS
REFRESH-INTERVAL;VALUE=DURATION:PT1H
X-Robots-Tag:noindex
X-PUBLISHED-TTL:PT1H
BEGIN:VTIMEZONE
TZID:UTC
BEGIN:STANDARD
TZOFFSETFROM:+0000
TZOFFSETTO:+0000
TZNAME:UTC
DTSTART:20250101T000000
END:STANDARD
END:VTIMEZONE
BEGIN:VEVENT
DTSTART;VALUE=DATE:20250319
DTEND;VALUE=DATE:20250321
DTSTAMP:20260420T012209
CREATED:20250211T121943Z
LAST-MODIFIED:20250211T123633Z
UID:2612-1742342400-1742515199@osiris4r.eu
SUMMARY:EU Open Data Days
DESCRIPTION:Save the Date and Register for EU Open Data Days 2025!\nRegistration is now open! Please visit the respective tab to register. \nThe dynamic field of open data is changing the way in which we understand\, engage with\, and shape our world. From fostering transparency and fuelling research to triggering technological advances and informing policymakers\, the potential of open data is unlimited. \nThe Publications Office of the European Union is thrilled to announce the 2025 edition of EU Open Data Days\, scheduled for 19-20 March 2025 at the European Convention Centre in Luxembourg (ECCL) and online. \nThis event\, organised by the team at data.europa.eu\, the official portal for European data\, aims to promote the harnessing of open data’s power and will bring together data providers\, enthusiasts\, and re-users from Europe and beyond. \nWhether you’re part of the private sector working as a data publisher\, a data analyst\, or a public policymaker\, an academic\, or even just a passionate advocate for open data\, this event is for you
URL:https://osiris4r.eu/event/eu-open-data-days/
LOCATION:European Convention Centre in Luxembourg (ECCL) & online\, Luxemburg\, Luxembourg
ATTACH;FMTTYPE=image/png:https://osiris4r.eu/wp-content/uploads/2025/02/ODD-01_BannerEvent_0.png
END:VEVENT
END:VCALENDAR