BEGIN:VCALENDAR
VERSION:2.0
PRODID:-//OSIRIS - ECPv6.3.5//NONSGML v1.0//EN
CALSCALE:GREGORIAN
METHOD:PUBLISH
X-ORIGINAL-URL:https://osiris4r.eu
X-WR-CALDESC:Events for OSIRIS
REFRESH-INTERVAL;VALUE=DURATION:PT1H
X-Robots-Tag:noindex
X-PUBLISHED-TTL:PT1H
BEGIN:VTIMEZONE
TZID:UTC
BEGIN:STANDARD
TZOFFSETFROM:+0000
TZOFFSETTO:+0000
TZNAME:UTC
DTSTART:20250101T000000
END:STANDARD
END:VTIMEZONE
BEGIN:VEVENT
DTSTART;VALUE=DATE:20250406
DTEND;VALUE=DATE:20250411
DTSTAMP:20260419T233654
CREATED:20241009T082607Z
LAST-MODIFIED:20241009T082723Z
UID:2493-1743897600-1744329599@osiris4r.eu
SUMMARY:Call for Reproducibility Papers
DESCRIPTION:ECIR strongly encourages the submission of papers that repeat\, reproduce\, generalise\, and analyse prior work. Please refer to the ACM “Artifact Review and Badging” guidelines for consistent use of the terminology\, which is heterogeneous across disciplines. \nIn particular\, we solicit replicability (different team\, same experimental setup) and reproducibility (different team\, different experimental setup) papers. Submissions from the same authors – i.e.\, repeatability (same team\, same experimental setup) papers – of the reproduced experiments will not be accepted. \nReproducibility is key for establishing research to be reliable\, referenceable\, and extensible for the future. Emphasise your motivation for selecting the paper/papers\, the process of how results have been attempted to be reproduced (successful or not)\, the communication that was necessary to gather all information\, the potential difficulties encountered\, and the result of the process. A successful reproduction of the work is not a requirement\, but it is crucial to provide a precise and rigid evaluation of the process to allow lessons to be learned for the future. \nReproducibility Paper Track Dates\n\nReproducibility paper abstract submission: October 16\, 2024\, 11:59pm (AoE) October 23\, 2024\, 11:59pm (AoE)\nReproducibility paper submission: October 23\, 2024\, 11:59pm (AoE) October 30\, 2024\, 11:59pm (AoE)\nReproducibility paper notification: December 16\, 2025\nMain conference: April 6-10\, 2025\n\nRead more information HERE.
URL:https://osiris4r.eu/event/call-for-reproducibility-papers/
ATTACH;FMTTYPE=image/png:https://osiris4r.eu/wp-content/uploads/2024/10/cropped-ECIR-2025-semplificato-1.png
END:VEVENT
END:VCALENDAR