BEGIN:VCALENDAR
VERSION:2.0
PRODID:-//OSIRIS - ECPv6.3.5//NONSGML v1.0//EN
CALSCALE:GREGORIAN
METHOD:PUBLISH
X-ORIGINAL-URL:https://osiris4r.eu
X-WR-CALDESC:Events for OSIRIS
REFRESH-INTERVAL;VALUE=DURATION:PT1H
X-Robots-Tag:noindex
X-PUBLISHED-TTL:PT1H
BEGIN:VTIMEZONE
TZID:UTC
BEGIN:STANDARD
TZOFFSETFROM:+0000
TZOFFSETTO:+0000
TZNAME:UTC
DTSTART:20250101T000000
END:STANDARD
END:VTIMEZONE
BEGIN:VEVENT
DTSTART;VALUE=DATE:20250610
DTEND;VALUE=DATE:20250613
DTSTAMP:20260419T195922
CREATED:20250211T124020Z
LAST-MODIFIED:20250211T124300Z
UID:2616-1749513600-1749772799@osiris4r.eu
SUMMARY:International conference of Core Technologies for Life Science (CTLS)
DESCRIPTION:Welcome to CTLS 2025\nWe’re excited to invite you to join us at the CTLS 2025 Congress happening in the beautiful city of Brno! This gathering is going to be an excellent opportunity\, bringing together core facility administrators\, managers\, researchers\, and professionals to talk\, collaborate\, and dive into why core facilities are key to shaping the scientific world. Don’t miss out! \nMeet Brno Genius Loci\nAfter an intellectually stimulating programme\, you will have the opportunity to taste Brno\, explore its culture and historical charm\, follow in the footsteps of Gregor Johann Mendel or just soak up the atmosphere of Brno innovation ecosystem – know that Brno is the Mecca of electron microscopy\, a cybersecurity hub\, becoming the capital of the European gaming industry and the centre of the Czech space industry. \nIMPORTANT DATES \nRegistration open \nSeptember 2024 \nEarly registration deadline \nFebruary 2025 \nAbstract submission deadline \nMarch 2025
URL:https://osiris4r.eu/event/international-conference-of-core-technologies-for-life-science-ctls/
LOCATION:Hotel International Brno\, Husova 200 / 16\, Brno\, Czech Republic
ATTACH;FMTTYPE=image/jpeg:https://osiris4r.eu/wp-content/uploads/2025/02/header-2.jpg
END:VEVENT
END:VCALENDAR