BEGIN:VCALENDAR
VERSION:2.0
PRODID:-//OSIRIS - ECPv6.3.5//NONSGML v1.0//EN
CALSCALE:GREGORIAN
METHOD:PUBLISH
X-WR-CALNAME:OSIRIS
X-ORIGINAL-URL:https://osiris4r.eu
X-WR-CALDESC:Events for OSIRIS
REFRESH-INTERVAL;VALUE=DURATION:PT1H
X-Robots-Tag:noindex
X-PUBLISHED-TTL:PT1H
BEGIN:VTIMEZONE
TZID:UTC
BEGIN:STANDARD
TZOFFSETFROM:+0000
TZOFFSETTO:+0000
TZNAME:UTC
DTSTART:20250101T000000
END:STANDARD
END:VTIMEZONE
BEGIN:VEVENT
DTSTART;TZID=UTC:20250613T123000
DTEND;TZID=UTC:20260313T133000
DTSTAMP:20260419T195739
CREATED:20250505T135012Z
LAST-MODIFIED:20250505T135147Z
UID:2712-1749817800-1773408600@osiris4r.eu
SUMMARY:LORIER Webinar Series on Reproducibility and Meta-Research
DESCRIPTION:In partnership with RestoRes and Embrace\, LORIER’s monthly webinars address key issues for reproducible health research\, including data sharing\, reproducibility\, and meta-research. This series\, starting in June 2025\, features international experts and is aligned with the goals of the Restores and Embrace projects. \nLORIER launches a series of webinars on reproducibility and meta-research\nThe LORIER Ambassadors Program for Reproducibility and Meta-Research kicks off a series of monthly webinars dedicated to the challenges of reproducible health research.\nOrganized in partnership with OSIRIS\, SHARE-CTD\, Restores\, and the French Network for Reproducible Research\, this series will feature international speakers and a variety of topics: sharing clinical data\, tools for reproducibility\, ambassador networks\, and FAIRification of data.\nThe first webinar\, hosted by Rita Banzi\, will present collaborative reproducibility projects—your ideas are welcome!\nThe webinars will take place from June 2025 to March 2026\, every second Friday of the month from 12:30 PM to 1:30 PM.\nThe connection link will be sent by email one week before each session.\nSave the dates in your calendars now!\nFind the full program below. \n\nWebinar Series Agenda \nLORIER Ambassadors for Reproducibility and Meta-Research Program\nIn partnership with OSIRIS\, SHARE-CTD\, Restores\, and the French Reproducible Research Network  \nWebinar 1\nTitle: OSIRIS items for reproducibilty and Invitation to Join Interventional Studies\nSpeaker: Rita Banzi\nPartner: OSIRIS\nDate: Friday\, June 13 | 12:30–13:30\nModerator: Constant Vinatier \nWebinar 2\nTitle: Training the Next Generation of Researchers in Clinical Data Sharing\nSpeaker: Ulrich Mansmann\nPartner: SHARE-CTD\nDate: Friday\, September 5 | 12:30–13:30\nModerator: Florian Naudet \nWebinar 3\nTitle: How Can an Ambassador Network Promote Reproducible Research Practices?\nSpeaker: Florian Naudet\nPartner: All\nDate: Friday\, November 7 | 12:30–13:30\nModerator: Constant Vinatier \nWebinar 4\nTitle: On the 12th Day of Christmas\, a Statistician Sent to Me…\nSpeaker: Richard Riley (pending confirmation)\nDate: Friday\, December 12 | 12:30–13:30\nModerator: Florian Naudet \nWebinar 5\nTitle: FAIRification of Clinical Trial Data\nSpeaker: Ka Hin Tai\nPartner: SHARE-CTD\nDate: Friday\, January 9\, 2026 | 12:30–13:30\nModerator: Florian Naudet \nWebinar 6\nTitle: Re-use of Clinical Trial Data\nSpeaker: Giulia Varvara\nPartner: SHARE-CTD\nDate: Friday\, February 13\, 2026 | 12:30–13:30\nModerator: Florian Naudet \nWebinar 7\nTitle: Open Science Practices in Biomedical Journals\nSpeaker: Constant Vinatier\nPartner: OSIRIS\nDate: Friday\, March 13\, 2026 | 12:30–13:30\nModerator: Florian Naudet
URL:https://osiris4r.eu/event/lorier-webinar-series-on-reproducibility-and-meta-research/
LOCATION:Online
END:VEVENT
BEGIN:VEVENT
DTSTART;VALUE=DATE:20250616
DTEND;VALUE=DATE:20250620
DTSTAMP:20260419T195739
CREATED:20250211T125805Z
LAST-MODIFIED:20250211T125805Z
UID:2628-1750032000-1750377599@osiris4r.eu
SUMMARY:European Conference on Ethics and Integrity in Academia 2025
DESCRIPTION:We are delighted to invite you to the European Conference on Ethics and Integrity in Academia ECEIA 2025\, co -organised by the Centre of Research Ethics & Bioethics at Uppsala University in Sweden as the 11th annual conference of the European Network for Academic Integrity (ENAI). This esteemed event will take place from 16th to 19th June 2025 in Uppsala\, Sweden.
URL:https://osiris4r.eu/event/european-conference-on-ethics-and-integrity-in-academia-2025/
LOCATION:Centre of Research Ethics & Bioethics at Uppsala University\, Uppsala\, Sweden
ATTACH;FMTTYPE=image/png:https://osiris4r.eu/wp-content/uploads/2025/02/logo_ECEIA25.png
END:VEVENT
BEGIN:VEVENT
DTSTART;VALUE=DATE:20250617
DTEND;VALUE=DATE:20250620
DTSTAMP:20260419T195739
CREATED:20250305T112229Z
LAST-MODIFIED:20250305T112310Z
UID:2664-1750118400-1750377599@osiris4r.eu
SUMMARY:Advancing Open Science and RDM - staff exchange at Ghent University Library 2025
DESCRIPTION:We are pleased to invite library and research support professionals to join us for our Staff Exchange Week at Ghent University\, from 17th to 19th June 2025. \nIn today’s rapidly evolving academic landscape\, the adoption of Open Science (OS) and Research Data Management (RDM) practices is becoming essential. Our program\, themed around these critical areas\, will provide an in-depth look into national and institutional policies\, Ghent University services\, and tools supporting Open Science and effective data management. Topics will include: \n\nNational and institutional policies on Open Science and Research Data Management\nDeveloping and supporting Data Management Plans (DMPs)\,\nOS- and RDM-enabling tools\nOpen Access & scholarly communication services\nTraining strategy and services and OS support services\nData preservation\, sharing and curation\n\nParticipants will benefit from engaging presentations\, interactive discussions and practical demonstrations\, along with opportunities for knowledge exchange with peers across Europe. Participants will also be expected to prepare a short presentation on their experience with the programme topic. We welcome participants who are eager to share their experiences\, engage with innovative approaches to OS and RDM and have a strong interest in contributing to and learning from this international exchange. \nThe working language of the event is English. \nInterested participants should apply by completing the registration form before the deadline (31st January 2025). Applications will be reviewed in the order in which they are received\, and those meeting the selection criteria will be notified by 28th February 2025. We encourage early applications to ensure a spot in the programme. The selection criteria can be consulted in the registration form. \nPreliminary programme\nDay 1: setting the scene\n\nGet to know each other\nAdvancing Open Science within Ghent University\nLegal and regulatory frameworks\n\nNational and institutional policies on Open Science and Research Data Management\nMonitoring Open Science progress\nLegal framework: copyright\, OA exception\, GDPR\, etc.\n\n\nThe OS team in networks: FRDN & OpenAIRE\n\nDay 2: OS and RDM services\n\nData management planning\nTraining and support\nData preservation\, sharing and curation\nOpen Access as part of a publication strategy\n\nDay 3: OS- and RDM-enabling tools & infrastructure\n\nDMPonline.be\nRSpace Electronic Lab Notebook\nBiblio academic bibliography and institutional repository\nZenodo Community\nOSF\nopenjournals.ugent.be
URL:https://osiris4r.eu/event/advancing-open-science-and-rdm-staff-exchange-at-ghent-university-library-2025/
LOCATION:Ghent University\, Ghent\, Belgium
END:VEVENT
END:VCALENDAR