BEGIN:VCALENDAR
VERSION:2.0
PRODID:-//OSIRIS - ECPv6.3.5//NONSGML v1.0//EN
CALSCALE:GREGORIAN
METHOD:PUBLISH
X-ORIGINAL-URL:https://osiris4r.eu
X-WR-CALDESC:Events for OSIRIS
REFRESH-INTERVAL;VALUE=DURATION:PT1H
X-Robots-Tag:noindex
X-PUBLISHED-TTL:PT1H
BEGIN:VTIMEZONE
TZID:UTC
BEGIN:STANDARD
TZOFFSETFROM:+0000
TZOFFSETTO:+0000
TZNAME:UTC
DTSTART:20250101T000000
END:STANDARD
END:VTIMEZONE
BEGIN:VEVENT
DTSTART;TZID=UTC:20250613T123000
DTEND;TZID=UTC:20260313T133000
DTSTAMP:20260419T180316
CREATED:20250505T135012Z
LAST-MODIFIED:20250505T135147Z
UID:2712-1749817800-1773408600@osiris4r.eu
SUMMARY:LORIER Webinar Series on Reproducibility and Meta-Research
DESCRIPTION:In partnership with RestoRes and Embrace\, LORIER’s monthly webinars address key issues for reproducible health research\, including data sharing\, reproducibility\, and meta-research. This series\, starting in June 2025\, features international experts and is aligned with the goals of the Restores and Embrace projects. \nLORIER launches a series of webinars on reproducibility and meta-research\nThe LORIER Ambassadors Program for Reproducibility and Meta-Research kicks off a series of monthly webinars dedicated to the challenges of reproducible health research.\nOrganized in partnership with OSIRIS\, SHARE-CTD\, Restores\, and the French Network for Reproducible Research\, this series will feature international speakers and a variety of topics: sharing clinical data\, tools for reproducibility\, ambassador networks\, and FAIRification of data.\nThe first webinar\, hosted by Rita Banzi\, will present collaborative reproducibility projects—your ideas are welcome!\nThe webinars will take place from June 2025 to March 2026\, every second Friday of the month from 12:30 PM to 1:30 PM.\nThe connection link will be sent by email one week before each session.\nSave the dates in your calendars now!\nFind the full program below. \n\nWebinar Series Agenda \nLORIER Ambassadors for Reproducibility and Meta-Research Program\nIn partnership with OSIRIS\, SHARE-CTD\, Restores\, and the French Reproducible Research Network  \nWebinar 1\nTitle: OSIRIS items for reproducibilty and Invitation to Join Interventional Studies\nSpeaker: Rita Banzi\nPartner: OSIRIS\nDate: Friday\, June 13 | 12:30–13:30\nModerator: Constant Vinatier \nWebinar 2\nTitle: Training the Next Generation of Researchers in Clinical Data Sharing\nSpeaker: Ulrich Mansmann\nPartner: SHARE-CTD\nDate: Friday\, September 5 | 12:30–13:30\nModerator: Florian Naudet \nWebinar 3\nTitle: How Can an Ambassador Network Promote Reproducible Research Practices?\nSpeaker: Florian Naudet\nPartner: All\nDate: Friday\, November 7 | 12:30–13:30\nModerator: Constant Vinatier \nWebinar 4\nTitle: On the 12th Day of Christmas\, a Statistician Sent to Me…\nSpeaker: Richard Riley (pending confirmation)\nDate: Friday\, December 12 | 12:30–13:30\nModerator: Florian Naudet \nWebinar 5\nTitle: FAIRification of Clinical Trial Data\nSpeaker: Ka Hin Tai\nPartner: SHARE-CTD\nDate: Friday\, January 9\, 2026 | 12:30–13:30\nModerator: Florian Naudet \nWebinar 6\nTitle: Re-use of Clinical Trial Data\nSpeaker: Giulia Varvara\nPartner: SHARE-CTD\nDate: Friday\, February 13\, 2026 | 12:30–13:30\nModerator: Florian Naudet \nWebinar 7\nTitle: Open Science Practices in Biomedical Journals\nSpeaker: Constant Vinatier\nPartner: OSIRIS\nDate: Friday\, March 13\, 2026 | 12:30–13:30\nModerator: Florian Naudet
URL:https://osiris4r.eu/event/lorier-webinar-series-on-reproducibility-and-meta-research/
LOCATION:Online
END:VEVENT
BEGIN:VEVENT
DTSTART;TZID=UTC:20250724T170000
DTEND;TZID=UTC:20250724T190000
DTSTAMP:20260419T180316
CREATED:20250722T143450Z
LAST-MODIFIED:20250722T143750Z
UID:3004-1753376400-1753383600@osiris4r.eu
SUMMARY:Examining Reproducibility in European Science\, seminar by Nicholas J. DeVito
DESCRIPTION:About the Event: \nReproducibility is crucial to the progress and impact of Research and Innovation (R&I) as it confirms or corrects the outcomes of single studies\, resulting in higher quality research\, more reliable and implementable outcomes\, and a reduction of research costs. OSIRIS (Open Science to Increase Reproducibility in Science) is one of three EU funded consortia studying reproducibility in Europe. It aims to facilitate this shift by systematically gathering knowledge on the underlying drivers\, testing effective evidence-based solutions\, identifying incentives for reproducibility by stakeholders\, and embedding reproducibility in research design. This talk examines the work done by OSIRIS to date to understand what reproducibility means across contexts\, what evidence exists to improve it\, and how we are working to generate new evidence in the field. \nAbout the Speaker: \nNicholas J. DeVito\, MPH\, DPhil \nNick is a postgraduate researcher at the Nuffield Department of Primary Care Health Sciences\, University of Oxford. He leads all research integrity work at the Bennett Institute for Applied Data Science including the influential TrialsTracker project and as a member of the OSIRIS Consortium. His research focuses on using mixed-methods approaches to understand how governments and institutions can support and promote more rigorous\, transparent\, and reproducible research. In addition to his funding from the EU\, he currently also receives funding from UKRI for metascience work and supports the OpenSAFELY project at the Bennett Institute. \nFind more here: https://mailchi.mp/consilium-scientific/ykdsdr6f5a
URL:https://osiris4r.eu/event/examining-reproducibility-in-european-science-seminar-by-nicholas-j-devito/
LOCATION:Online
ATTACH;FMTTYPE=image/png:https://osiris4r.eu/wp-content/uploads/2025/07/ade22cde-5549-35c9-0318-0c468d9c9952.png
END:VEVENT
END:VCALENDAR