BEGIN:VCALENDAR
VERSION:2.0
PRODID:-//OSIRIS - ECPv6.3.5//NONSGML v1.0//EN
CALSCALE:GREGORIAN
METHOD:PUBLISH
X-WR-CALNAME:OSIRIS
X-ORIGINAL-URL:https://osiris4r.eu
X-WR-CALDESC:Events for OSIRIS
REFRESH-INTERVAL;VALUE=DURATION:PT1H
X-Robots-Tag:noindex
X-PUBLISHED-TTL:PT1H
BEGIN:VTIMEZONE
TZID:UTC
BEGIN:STANDARD
TZOFFSETFROM:+0000
TZOFFSETTO:+0000
TZNAME:UTC
DTSTART:20250101T000000
END:STANDARD
END:VTIMEZONE
BEGIN:VEVENT
DTSTART;TZID=UTC:20251031T110000
DTEND;TZID=UTC:20251031T130000
DTSTAMP:20260419T215841
CREATED:20251017T082907Z
LAST-MODIFIED:20251017T084859Z
UID:3082-1761908400-1761915600@osiris4r.eu
SUMMARY:Co-Creating Practice Guidance for Funders to Embed Reproducibility
DESCRIPTION:How can funders better integrate reproducibility into their assessment and monitoring frameworks?\nThis OSIRIS co-creation workshop invites funding representatives\, program officers\, and policy experts to help design practical guidance and resources that make reproducibility a core part of research funding. \nThe session will be an interactive discussion (8–10 participants) focused on refining draft OSIRIS materials for funders. Participants will exchange strategies\, provide feedback\, and contribute to the co-design of guidance that can be applied directly in funding schemes. \nWhat You’ll Gain \n\nShape OSIRIS resources that support funders in promoting transparency and verification.\nLearn from peers about how reproducibility is embedded in evaluation and reporting processes.\nDevelop practical recommendations to strengthen reproducibility within funding calls and grant management.\n\nWho Should Attend \n\nRepresentatives of funding agencies\, research councils\, and grant offices\nProgramme officers\, policy specialists\, and evaluation experts\nAnyone involved in designing or implementing funding schemes with an Open Science focus\n\nRegistration / Expression of Interest \n\nPlaces are limited to ensure meaningful discussion.\nTo express interest\, please contact:\nStefan Wouters at: S.Wouters@umcutrecht.nl\n\nLocation: Online (link provided upon confirmation) \nOrganised by the OSIRIS (Open Science to increase Reproducibility in Science) consortium.
URL:https://osiris4r.eu/event/co-creating-practice-guidance-for-funders-to-embed-reproducibility/
LOCATION:Online
ATTACH;FMTTYPE=image/jpeg:https://osiris4r.eu/wp-content/uploads/2025/10/workshop2.jpg
END:VEVENT
BEGIN:VEVENT
DTSTART;VALUE=DATE:20260503
DTEND;VALUE=DATE:20260507
DTSTAMP:20260419T215841
CREATED:20260304T082819Z
LAST-MODIFIED:20260304T083058Z
UID:3197-1777766400-1778111999@osiris4r.eu
SUMMARY:9th World Conference on Research Integrity (WCRI 2026)
DESCRIPTION:Event: 9th World Conference on Research Integrity (WCRI 2026)\nDate: 3–6 May 2026\nLocation: Vancouver\, Canada\nWebsite: https://wcri2026.org/  \nOSIRIS Participation:\nOSIRIS team members from WP2 and WP3 will present research on reproducibility barriers across Europe\, results from a large-scale policy audit of journals\, funders\, and universities\, the Observatory of Open Science Practices in biomedical journals\, a pilot reproducibility checklist\, and findings from a survey on computational reproducibility. \nStay tuned for updates!
URL:https://osiris4r.eu/event/9th-world-conference-on-research-integrity-wcri-2026/
LOCATION:Vancouver\, Canada\, Vancouver\, Canada
ATTACH;FMTTYPE=image/jpeg:https://osiris4r.eu/wp-content/uploads/2026/03/OSIRIS-at-WCRI-2026.jpg
END:VEVENT
END:VCALENDAR