BEGIN:VCALENDAR
VERSION:2.0
PRODID:-//OSIRIS - ECPv6.3.5//NONSGML v1.0//EN
CALSCALE:GREGORIAN
METHOD:PUBLISH
X-ORIGINAL-URL:https://osiris4r.eu
X-WR-CALDESC:Events for OSIRIS
REFRESH-INTERVAL;VALUE=DURATION:PT1H
X-Robots-Tag:noindex
X-PUBLISHED-TTL:PT1H
BEGIN:VTIMEZONE
TZID:UTC
BEGIN:STANDARD
TZOFFSETFROM:+0000
TZOFFSETTO:+0000
TZNAME:UTC
DTSTART:20250101T000000
END:STANDARD
END:VTIMEZONE
BEGIN:VEVENT
DTSTART;VALUE=DATE:20250217
DTEND;VALUE=DATE:20250220
DTSTAMP:20260420T012317
CREATED:20250211T121001Z
LAST-MODIFIED:20250211T121104Z
UID:2600-1739750400-1740009599@osiris4r.eu
SUMMARY:The 19th edition of the International Digital Curation Conference (IDCC25)
DESCRIPTION:The 19th edition of the International Digital Curation Conference (IDCC25) will take place in The Hague\, the Netherlands between 17-19 February 2025. \nThe main theme of IDCC this year is Twenty years back\, twenty years forward: lessons and directions in digital curation. \nIDCC25 Programme Announced!\nOver 125 contributions from all over the world make up our programme\, that all meet the theme Twenty years back\, twenty years forward: lessons and directions in digital curation. \nThis year we have created in-person and virtual programme webpages. \nSponsorship and Support Opportunities are open
URL:https://osiris4r.eu/event/the-19th-edition-of-the-international-digital-curation-conference-idcc25/
LOCATION:Haag\, Netherlands\, Haag\, Netherlands
ATTACH;FMTTYPE=image/png:https://osiris4r.eu/wp-content/uploads/2025/02/The-Hague-Parliament-Banner-1100px-225px.png
END:VEVENT
BEGIN:VEVENT
DTSTART;VALUE=DATE:20250227
DTEND;VALUE=DATE:20250301
DTSTAMP:20260420T012317
CREATED:20250211T121352Z
LAST-MODIFIED:20250211T121718Z
UID:2605-1740614400-1740787199@osiris4r.eu
SUMMARY:2025 European Learning & Teaching Forum
DESCRIPTION:Registration for 2025 European Learning & Teaching Forum has been closed as we reached maximum capacity. We hope to see you at one of our future events! \nIt has become an accepted fact\, if not a truism\, that we are undergoing a period of change and disruption that poses numerous challenges to higher education\, as well as for society at large.\nBuilding agility for unknown challenges that may emerge is thus a key issue for higher education learning and teaching. How can we prepare our students\, teachers and institutions for the path ahead? Participants in this future-gazing edition of the European Learning & Teaching Forum will jointly discuss strategies to develop future-readiness in and through learning and teaching. Key questions include how higher education can safeguard its relevance through capacity for adaptation and how graduates can be equipped with responsive and adaptable mindsets. \nThrough a mix of plenary and parallel sessions\, the Forum provides a platform for discussion and exchange of practice on how universities enhance learning and teaching. The Forum also presents the work of the 2024 Learning & Teaching Thematic Peer Groups. It aims to gather higher education professionals working at different levels on matters of learning and teaching to exchange and discuss institutional practice and policy developments. The Forum is an ideal event for vicerectors for academic affairs\, deans\, heads of learning and teaching centres\, and management involved in learning and teaching. It also welcomes students\, policy makers and other stakeholders in higher education.
URL:https://osiris4r.eu/event/2025-european-learning-teaching-forum/
LOCATION:University College Cork (UCC)\, Cork\, Ireland
ATTACH;FMTTYPE=image/png:https://osiris4r.eu/wp-content/uploads/2025/02/Snimek-obrazovky-2025-02-11-131400.png
END:VEVENT
BEGIN:VEVENT
DTSTART;TZID=UTC:20250228T113000
DTEND;TZID=UTC:20250228T133000
DTSTAMP:20260420T012317
CREATED:20250218T101219Z
LAST-MODIFIED:20250218T101418Z
UID:2638-1740742200-1740749400@osiris4r.eu
SUMMARY:REINFORCING Webinar on Responsible Open Innovation
DESCRIPTION:We are thrilled to announce REINFORCING’s “Responsible Open Innovation in Practice. Insights from the 1st REINFORCING Open Call”. \nThis virtual event will highlight the achievements of 6 projects supported by REINFORCING’s first open call\, showcasing their contributions to advancing Open and Responsible Research and Innovation (ORRI) across Europe. \n📅 Date: February 28th\n🕒 Time: 11:30–13:30 CET\n📍 Location: Online via Zoom: Click here to register\n📑 View the event agenda here \n\n\n\n\n\n\n\n\n\n\n\n\n\n\nAbout the Webinar\n\n\n\n\n\n\n\n\n\n\n\n\n\n\nDuring the webinar\, grantees from the first open call will present their work from the past year\, sharing practical ORRI tools they developed and key lessons learned. Their experiences will provide valuable takeaways for anyone looking to promote responsible open innovation. \nWe’re also honored to host Giulia Bubbolini\, Chief Operating Officer of Centre for Innovation and Economic Development (CISE) and coordinator of the Interreg Central Europe GINEVRA. With extensive experience in responsible innovation and responsible open innovation gained through her work at CISE and various Interreg EU projects\, Giulia Bubbolini will share her insights on the evolution of responsible open innovation. \nThis webinar is part of a series of events promoted by REINFORCING to highlight the achievements and ongoing efforts of the project’s grantees in advancing ORRI across Europe. By showcasing the practical tools and strategies developed with REINFORCING’s support\, these events aim to empower EU institutions and territories to make tangible progress toward building a more inclusive\, human-centric R&I ecosystem. Through participation\, attendees can not only discover innovative solutions but also actively engage with the growing European network working to reshape research and innovation by addressing societal needs and challenges. \nInterested in learning more? Find details on the showcased projects here \n\n\n\n\n\n\n\n\n\n\n\n\n\n\nRegister now
URL:https://osiris4r.eu/event/reinforcing-webinar-on-responsible-open-innovation/
LOCATION:Online
ATTACH;FMTTYPE=image/png:https://osiris4r.eu/wp-content/uploads/2025/02/38f4998d-f2f6-6e0f-2052-d4899a0290b5.png
END:VEVENT
END:VCALENDAR